BEGIN:VCALENDAR
VERSION:2.0
PRODID:-//ChamberMaster//Event Calendar 2.0//EN
METHOD:PUBLISH
X-PUBLISHED-TTL:P3D
REFRESH-INTERVAL:P3D
CALSCALE:GREGORIAN
BEGIN:VEVENT
DTSTART:20260519T170000Z
DTEND:20260519T190000Z
X-MICROSOFT-CDO-ALLDAYEVENT:FALSE
SUMMARY:BuildLACCD Construction Networking Event
DESCRIPTION:Small Subs: Your Next Big Contract Starts Here! Meet Pre-Qualified Service Provider (PQSP) prime contractors bidding on projects from $25K to $5M. Connect with large primes and specialty contractors participating in BuildLACCD projects! Showcase your firm\, share expertise\, and submit a Statement of Qualification (SOQ). Gain insights on prequalification with PQSP primes\, larger contractors\, BuildLACCD\, and District Facilities.
X-ALT-DESC;FMTTYPE=text/html:Small Subs: Your Next Big Contract Starts Here! Meet Pre-Qualified Service Provider (PQSP) prime contractors bidding on projects from $25K to $5M. Connect with large primes and specialty contractors participating in BuildLACCD projects! Showcase your firm\, share expertise\, and submit a Statement of Qualification (SOQ). Gain insights on prequalification with PQSP primes\, larger contractors\, BuildLACCD\, and District Facilities.
LOCATION:855 N. VERMONT AVE LOS ANGELES\, CA 90029
UID:e.3590.1271
SEQUENCE:3
DTSTAMP:20260421T223757Z
URL:https://business.glaaacc.org/events/details/buildlaccd-construction-networking-event-1271
END:VEVENT

END:VCALENDAR
