BEGIN:VCALENDAR
VERSION:2.0
PRODID:-//ChamberMaster//Event Calendar 2.0//EN
METHOD:PUBLISH
X-PUBLISHED-TTL:P3D
REFRESH-INTERVAL:P3D
CALSCALE:GREGORIAN
BEGIN:VEVENT
DTSTART:20260324T230000Z
DTEND:20260325T000000Z
X-MICROSOFT-CDO-ALLDAYEVENT:FALSE
SUMMARY:GLAAACC MEMBER MEETUP
DESCRIPTION:Member Meet Up is designed to introduce chamber members\, highlight members through presentations\, and make referrals to support fellow businesses. Join GLAAACC on the fourth Tuesday of every other month to connect with your other business members.
X-ALT-DESC;FMTTYPE=text/html:<span style="color: rgb(35\, 35\, 51)\; font-family: Lato\, Helvetica\, Arial\; font-size: 14px\;">Member Meet Up is designed to introduce chamber members\, highlight members through&nbsp\;</span><span style="color: rgb(35\, 35\, 51)\; font-family: Lato\, Helvetica\, Arial\; font-size: 14px\;">presentations\, and make referrals to support fellow businesses. Join GLAAACC on the fourth Tuesday of every other month to connect with your other business members.</span><br />\n&nbsp\;
LOCATION:Join Zoom Meeting https://us06web.zoom.us/j/86027289163?pwd=qpUNcjiHaIWarrUehbGSp9N6Wc6php.1&from=addon Meeting ID: 860 2728 9163 Passcode: 110189
UID:e.3590.1266
SEQUENCE:3
DTSTAMP:20260421T113643Z
URL:https://business.glaaacc.org/events/details/glaaacc-member-meetup-1266
END:VEVENT

END:VCALENDAR
